BEGIN:VCALENDAR
VERSION:2.0
PRODID:-//Wildflower String Quartet • Augusta Based Musicians - ECPv6.15.20//NONSGML v1.0//EN
CALSCALE:GREGORIAN
METHOD:PUBLISH
X-WR-CALNAME:Wildflower String Quartet • Augusta Based Musicians
X-ORIGINAL-URL:https://www.wildflowerquartet.com
X-WR-CALDESC:Events for Wildflower String Quartet • Augusta Based Musicians
REFRESH-INTERVAL;VALUE=DURATION:PT1H
X-Robots-Tag:noindex
X-PUBLISHED-TTL:PT1H
BEGIN:VTIMEZONE
TZID:America/New_York
BEGIN:DAYLIGHT
TZOFFSETFROM:-0500
TZOFFSETTO:-0400
TZNAME:EDT
DTSTART:20250309T070000
END:DAYLIGHT
BEGIN:STANDARD
TZOFFSETFROM:-0400
TZOFFSETTO:-0500
TZNAME:EST
DTSTART:20251102T060000
END:STANDARD
BEGIN:DAYLIGHT
TZOFFSETFROM:-0500
TZOFFSETTO:-0400
TZNAME:EDT
DTSTART:20260308T070000
END:DAYLIGHT
BEGIN:STANDARD
TZOFFSETFROM:-0400
TZOFFSETTO:-0500
TZNAME:EST
DTSTART:20261101T060000
END:STANDARD
BEGIN:DAYLIGHT
TZOFFSETFROM:-0500
TZOFFSETTO:-0400
TZNAME:EDT
DTSTART:20270314T070000
END:DAYLIGHT
BEGIN:STANDARD
TZOFFSETFROM:-0400
TZOFFSETTO:-0500
TZNAME:EST
DTSTART:20271107T060000
END:STANDARD
END:VTIMEZONE
BEGIN:VEVENT
DTSTART;TZID=America/New_York:20260121T183000
DTEND;TZID=America/New_York:20260121T193000
DTSTAMP:20260422T225534
CREATED:20260121T191242Z
LAST-MODIFIED:20260127T190602Z
UID:3040-1769020200-1769023800@www.wildflowerquartet.com
SUMMARY:Candlelight: Tribute to Fleetwood Mac
DESCRIPTION:Overview\nCandlelight concerts bring the magic of a live\, multi-sensory musical experience to awe-inspiring locations like never seen before in Augusta. Get your tickets now to discover the music of Fleetwood Mac at Sacred Heart Cultural Center under the gentle glow of candlelight. \nGeneral Info\n\n📍 Venue: Sacred Heart Cultural Center\n⏳ Duration: 60 minutes. Doors open 45 minutes before the show and close 5 minutes prior to the start. Late arrivals will not be permitted\n👤 Age requirement: 8 years old or older. Anyone under the age of 16 must be accompanied by an adult\n♿ Accessibility: ADA compliant\n🪑 Seating: Seating is assigned on a first come first served basis in each zone\n\nTentative Program\n\nEverywhere\nGypsy\nYou Make Loving Fun\nNever Going Back Again\nDon’t Stop\nGold Dust Woman\nGo Your Own Way\nLandslide\nLittle Lies\nSongbird\nRhiannon\nThe Chain\n\nPerformers\n🎻 Listeso String Quartet \nBook a Private Event\nLooking to create an unforgettable experience for your wedding\, or special occasion? We offer private event bookings with customized programs tailored to your needs. \nGet a quote
URL:https://www.wildflowerquartet.com/concert/candlelight-tribute-to-fleetwood-mac/
LOCATION:Sacred Heart Cultural Center\, Augusta\, GA\, United States
CATEGORIES:Augusta, GA
ATTACH;FMTTYPE=image/jpeg:https://www.wildflowerquartet.com/wp-content/uploads/2026/01/5c2e82a6-1f77-11f0-9fc3-b6302f1836c4-3Gs8kb-uIGhYU.jpg
END:VEVENT
BEGIN:VEVENT
DTSTART;TZID=America/New_York:20260121T204500
DTEND;TZID=America/New_York:20260121T214500
DTSTAMP:20260422T225534
CREATED:20260121T191242Z
LAST-MODIFIED:20260127T190514Z
UID:3042-1769028300-1769031900@www.wildflowerquartet.com
SUMMARY:Candlelight: Tribute to Queen
DESCRIPTION:Overview\nCandlelight concerts bring the magic of a live\, multi-sensory musical experience to awe-inspiring locations like never seen before in Augusta. Get your tickets now to discover the music of Queen at Sacred Heart Cultural Center under the gentle glow of candlelight. \nGeneral Info\n\n📍 Venue: Sacred Heart Cultural Center\n⏳ Duration: 60 minutes. Doors open 60 minutes before the show and close 5 minutes prior to the start. Late arrivals will not be permitted\n👤 Age requirement: 8 years old or older. Anyone under the age of 16 must be accompanied by an adult\n♿ Accessibility: This venue is ADA compliant\n🪑 Seating: Seating is assigned on a first come first served basis in each zone\n\nTentative Program\n\nI Want to Break Free\nWe Will Rock You\nSomebody to Love\nRadio Ga Ga\nDon’t Stop Me Now\nKiller Queen\nCrazy Little Thing Called Love\nWho Wants to Live Forever\nBohemian Rhapsody\nLove of My Life\nWe Are the Champions\nAnother One Bites the Dust\n\nPerformers\n🎻 Listeso String Quartet \nBook a Private Event\nLooking to create an unforgettable experience for your wedding\, or special occasion? We offer private event bookings with customized programs tailored to your needs. \nGet a quote
URL:https://www.wildflowerquartet.com/concert/candlelight-tribute-to-queen/
LOCATION:Sacred Heart Cultural Center\, Augusta\, GA\, United States
CATEGORIES:Augusta, GA
ATTACH;FMTTYPE=image/jpeg:https://www.wildflowerquartet.com/wp-content/uploads/2026/01/02d31cfe-1940-11f0-a825-56c21721c770-2MNiXj-PXKzSU.jpg
END:VEVENT
BEGIN:VEVENT
DTSTART;TZID=America/New_York:20260122T183000
DTEND;TZID=America/New_York:20260122T193000
DTSTAMP:20260422T225534
CREATED:20260121T191243Z
LAST-MODIFIED:20260127T190431Z
UID:3044-1769106600-1769110200@www.wildflowerquartet.com
SUMMARY:Candlelight: Coldplay vs. Imagine Dragons
DESCRIPTION:Overview\nCandlelight concerts bring the magic of a live\, multi-sensory musical experience to awe-inspiring locations like never seen before in Augusta. Get your tickets now to discover the music of Coldplay vs. Imagine Dragons at Sacred Heart Cultural Center under the gentle glow of candlelight. \nGeneral Info\n\n📍 Venue: Sacred Heart Cultural Center\n📅 Dates and times: select your dates/times directly in the ticket selector\n⏳ Duration: 60 minutes. Doors open 45 minutes before the show and close 5 minutes prior to the start. Late arrivals will not be permitted\n👤 Age requirement: 8 years old or older. Anyone under the age of 16 must be accompanied by an adult\n♿ Accessibility: this venue is ADA compliant\n🪑 Seating: Seating is assigned on a first come first served basis in each zone\n\nTentative Program\n\nColdplay – Clocks\nColdplay – Something Just Like This\nImagine Dragons – Radioactive\nColdplay – Adventure of a Lifetime\nColdplay – Fix You\nImagine Dragons – Eyes Closed\nImagine Dragons – Nice to Meet You\nColdplay – The Scientist\nColdplay – feelslikeimfallinginlove\nImagine Dragons – Follow You\nImagine Dragons – Bad Liar\nColdplay – Viva la Vida\nImagine Dragons – Believer\nColdplay – Sky Full of Stars\n\nPerformers\n🎻 Listeso String Quartet \nBook a Private Event\nLooking to create an unforgettable experience for your wedding\, or special occasion? We offer private event bookings with customized programs tailored to your needs. \nGet a quote
URL:https://www.wildflowerquartet.com/concert/candlelight-coldplay-vs-imagine-dragons/
LOCATION:Sacred Heart Cultural Center\, Augusta\, GA\, United States
CATEGORIES:Augusta, GA
ATTACH;FMTTYPE=image/jpeg:https://www.wildflowerquartet.com/wp-content/uploads/2026/01/55ef9d82-1156-11f0-b5b0-0ee885ccc32f-OlscRd-9DArK4.jpg
END:VEVENT
BEGIN:VEVENT
DTSTART;TZID=America/New_York:20260122T204500
DTEND;TZID=America/New_York:20260122T214500
DTSTAMP:20260422T225534
CREATED:20260121T191243Z
LAST-MODIFIED:20260127T190349Z
UID:3046-1769114700-1769118300@www.wildflowerquartet.com
SUMMARY:Candlelight: Best of Hip-Hop
DESCRIPTION:Overview\nCandlelight concerts bring the magic of a live\, multi-sensory musical experience to awe-inspiring locations like never seen before in Augusta. Get your tickets now to discover the music of Hip-Hop at Sacred Heart Cultural Center under the gentle glow of candlelight. \nGeneral Info\n\n📍 Venue: Sacred Heart Cultural Center\n⏳ Duration: 60 minutes. Doors open 60 minutes before the show and close 5 minutes prior to the start. Late arrivals will not be permitted\n👤 Age requirement: 8 years old or older. Anyone under the age of 16 must be accompanied by an adult\n♿ Accessibility: this venue is ADA compliant\n🪑 Seating: Seating is assigned on a first come first served basis in each zone\n\nTentative Program\n\nGangsta’s Paradise – Coolio\nI Like It – Cardi B\nJay-Z Medley\nOutkast Medley\nLauryn Hill and Fugees Medley\nPassionfruit – Drake\nSwimming Pools – Kendrick Lamar\n2Pac Medley\nThe Notorious B.I.G. Medley\nDr. Dre Medley\nEminem Medley\nEncore: Drunk in Love – Beyonce\n\nPerformers\n🎻 Listeso String Quartet + Drums \nBook a Private Event\nLooking to create an unforgettable experience for your wedding\, or special occasion? We offer private event bookings with customized programs tailored to your needs. \nGet a quote
URL:https://www.wildflowerquartet.com/concert/candlelight-best-of-hip-hop/
LOCATION:Sacred Heart Cultural Center\, Augusta\, GA\, United States
CATEGORIES:Augusta, GA
ATTACH;FMTTYPE=image/jpeg:https://www.wildflowerquartet.com/wp-content/uploads/2026/01/0333ea26-1516-11f0-a637-fad4b74c3ddb-2HI2sy-R7giLb.jpg
END:VEVENT
BEGIN:VEVENT
DTSTART;TZID=America/New_York:20260326T183000
DTEND;TZID=America/New_York:20260326T193000
DTSTAMP:20260422T225534
CREATED:20260224T001854Z
LAST-MODIFIED:20260316T001733Z
UID:3089-1774549800-1774553400@www.wildflowerquartet.com
SUMMARY:Candlelight: Tribute to Fleetwood Mac
DESCRIPTION:Overview\nCandlelight concerts bring the magic of a live\, multi-sensory musical experience to awe-inspiring locations like never seen before in Augusta. Get your tickets now to discover the music of Fleetwood Mac at Sacred Heart Cultural Center under the gentle glow of candlelight. \nGeneral Info\n\n📍 Venue: Sacred Heart Cultural Center\n⏳ Duration: 60 minutes. Doors open 45 minutes before the show. No entry once it starts.\n👤 Age requirement: 8 years old or older. Anyone under the age of 16 must be accompanied by an adult\n♿ Accessibility: ADA compliant\n🪑 Seating: Seating is assigned on a first come first served basis in each zone\n\nTentative Program\n\nEverywhere\nGypsy\nYou Make Loving Fun\nNever Going Back Again\nDon’t Stop\nGold Dust Woman\nGo Your Own Way\nLandslide\nLittle Lies\nSongbird\nRhiannon\nThe Chain\n\nPerformers\n🎻 Listeso String Quartet \nBook a Private Event\nLooking to create an unforgettable experience for your wedding\, or special occasion? We offer private event bookings with customized programs tailored to your needs. \nGet a quote
URL:https://www.wildflowerquartet.com/concert/candlelight-tribute-to-fleetwood-mac-2/
LOCATION:Sacred Heart Cultural Center\, Augusta\, GA\, United States
CATEGORIES:Augusta, GA
ATTACH;FMTTYPE=image/jpeg:https://www.wildflowerquartet.com/wp-content/uploads/2026/01/5c2e82a6-1f77-11f0-9fc3-b6302f1836c4-3Gs8kb-uIGhYU.jpg
END:VEVENT
BEGIN:VEVENT
DTSTART;TZID=America/New_York:20260326T204500
DTEND;TZID=America/New_York:20260326T214500
DTSTAMP:20260422T225534
CREATED:20260225T002212Z
LAST-MODIFIED:20260316T001733Z
UID:3092-1774557900-1774561500@www.wildflowerquartet.com
SUMMARY:Candlelight: Coldplay vs. Imagine Dragons
DESCRIPTION:Overview\nCandlelight concerts bring the magic of a live\, multi-sensory musical experience to awe-inspiring locations like never seen before in Augusta. Get your tickets now to discover the music of Coldplay vs. Imagine Dragons at Sacred Heart Cultural Center under the gentle glow of candlelight. \nGeneral Info\n\n📍 Venue: Sacred Heart Cultural Center\n⏳ Duration: 60 minutes. Doors open 45 minutes before the show. No entry once it starts.\n👤 Age requirement: 8 years old or older. Anyone under the age of 16 must be accompanied by an adult\n♿ Accessibility: This venue is ADA compliant\n🪑 Seating: Seating is assigned on a first come first served basis in each zone\n\nTentative Program\n\nColdplay – Clocks\nColdplay – Something Just Like This\nImagine Dragons – Radioactive\nColdplay – Adventure of a Lifetime\nColdplay – Fix You\nImagine Dragons – Eyes Closed\nImagine Dragons – Nice to Meet You\nColdplay – The Scientist\nColdplay – feelslikeimfallinginlove\nImagine Dragons – Follow You\nImagine Dragons – Bad Liar\nColdplay – Viva la Vida\nImagine Dragons – Believer\nColdplay – Sky Full of Stars\n\nPerformers\n🎻 Listeso String Quartet \nBook a Private Event\nLooking to create an unforgettable experience for your wedding\, or special occasion? We offer private event bookings with customized programs tailored to your needs. \nGet a quote
URL:https://www.wildflowerquartet.com/concert/candlelight-coldplay-vs-imagine-dragons-2/
LOCATION:Sacred Heart Cultural Center\, Augusta\, GA\, United States
CATEGORIES:Augusta, GA
ATTACH;FMTTYPE=image/jpeg:https://www.wildflowerquartet.com/wp-content/uploads/2026/01/55ef9d82-1156-11f0-b5b0-0ee885ccc32f-OlscRd-9DArK4.jpg
END:VEVENT
END:VCALENDAR